BEGIN:VCALENDAR
VERSION:2.0
PRODID:-//City of Sylvania - ECPv6.15.18//NONSGML v1.0//EN
CALSCALE:GREGORIAN
METHOD:PUBLISH
X-WR-CALNAME:City of Sylvania
X-ORIGINAL-URL:https://www.cityofsylvania.com
X-WR-CALDESC:Events for City of Sylvania
REFRESH-INTERVAL;VALUE=DURATION:PT1H
X-Robots-Tag:noindex
X-PUBLISHED-TTL:PT1H
BEGIN:VTIMEZONE
TZID:America/New_York
BEGIN:DAYLIGHT
TZOFFSETFROM:-0500
TZOFFSETTO:-0400
TZNAME:EDT
DTSTART:20250309T070000
END:DAYLIGHT
BEGIN:STANDARD
TZOFFSETFROM:-0400
TZOFFSETTO:-0500
TZNAME:EST
DTSTART:20251102T060000
END:STANDARD
BEGIN:DAYLIGHT
TZOFFSETFROM:-0500
TZOFFSETTO:-0400
TZNAME:EDT
DTSTART:20260308T070000
END:DAYLIGHT
BEGIN:STANDARD
TZOFFSETFROM:-0400
TZOFFSETTO:-0500
TZNAME:EST
DTSTART:20261101T060000
END:STANDARD
BEGIN:DAYLIGHT
TZOFFSETFROM:-0500
TZOFFSETTO:-0400
TZNAME:EDT
DTSTART:20270314T070000
END:DAYLIGHT
BEGIN:STANDARD
TZOFFSETFROM:-0400
TZOFFSETTO:-0500
TZNAME:EST
DTSTART:20271107T060000
END:STANDARD
END:VTIMEZONE
BEGIN:VEVENT
DTSTART;TZID=America/New_York:20260406T180000
DTEND;TZID=America/New_York:20260406T183000
DTSTAMP:20260420T001408
CREATED:20260218T190518Z
LAST-MODIFIED:20260218T202154Z
UID:18453-1775498400-1775500200@www.cityofsylvania.com
SUMMARY:Public Hearing on SUP-1-2026 & SUP -2-2026
DESCRIPTION:CLICK HERE for more information.
URL:https://www.cityofsylvania.com/event/public-hearing-on-sup-1-2026-sup-2-2026/
LOCATION:Municipal Building\, 6635 Maplewood Avenue\, Sylvania\, OH\, 43560\, United States
END:VEVENT
BEGIN:VEVENT
DTSTART;TZID=America/New_York:20260316T183000
DTEND;TZID=America/New_York:20260316T183000
DTSTAMP:20260420T001408
CREATED:20260218T190857Z
LAST-MODIFIED:20260218T190857Z
UID:18460-1773685800-1773685800@www.cityofsylvania.com
SUMMARY:City Council Meeting
DESCRIPTION:CLICK HERE for more information.
URL:https://www.cityofsylvania.com/event/city-council-meeting-5/
LOCATION:Municipal Building\, 6635 Maplewood Avenue\, Sylvania\, OH\, 43560\, United States
END:VEVENT
BEGIN:VEVENT
DTSTART;TZID=America/New_York:20260302T183000
DTEND;TZID=America/New_York:20260302T183000
DTSTAMP:20260420T001408
CREATED:20260218T190756Z
LAST-MODIFIED:20260218T190756Z
UID:18458-1772476200-1772476200@www.cityofsylvania.com
SUMMARY:City Council Meeting
DESCRIPTION:CLICK HERE for more information.
URL:https://www.cityofsylvania.com/event/city-council-meeting-4/
LOCATION:Municipal Building\, 6635 Maplewood Avenue\, Sylvania\, OH\, 43560\, United States
END:VEVENT
BEGIN:VEVENT
DTSTART;TZID=America/New_York:20260302T173000
DTEND;TZID=America/New_York:20260302T183000
DTSTAMP:20260420T001408
CREATED:20260218T203154Z
LAST-MODIFIED:20260227T171730Z
UID:18466-1772472600-1772476200@www.cityofsylvania.com
SUMMARY:Committee of the Whole Meeting
DESCRIPTION:CLICK HERE for more information. \nProposed Ordinance No. 37-2026 \nMemorandum
URL:https://www.cityofsylvania.com/event/committee-of-the-whole-meeting/
LOCATION:Municipal Building\, 6635 Maplewood Avenue\, Sylvania\, OH\, 43560\, United States
END:VEVENT
BEGIN:VEVENT
DTSTART;TZID=America/New_York:20260217T183000
DTEND;TZID=America/New_York:20260217T183000
DTSTAMP:20260420T001408
CREATED:20260203T203759Z
LAST-MODIFIED:20260203T203759Z
UID:18420-1771353000-1771353000@www.cityofsylvania.com
SUMMARY:City Council Meeting
DESCRIPTION:CLICK HERE for more information.
URL:https://www.cityofsylvania.com/event/city-council-meeting-3/
LOCATION:Municipal Building\, 6635 Maplewood Avenue\, Sylvania\, OH\, 43560\, United States
END:VEVENT
BEGIN:VEVENT
DTSTART;TZID=America/New_York:20260217T180000
DTEND;TZID=America/New_York:20260217T183000
DTSTAMP:20260420T001408
CREATED:20260203T161447Z
LAST-MODIFIED:20260203T161447Z
UID:18414-1771351200-1771353000@www.cityofsylvania.com
SUMMARY:Committee of the Whole Council Meeting
DESCRIPTION:CLICK HERE for more information.
URL:https://www.cityofsylvania.com/event/committee-of-the-whole-council-meeting-2/
LOCATION:Municipal Building\, 6635 Maplewood Avenue\, Sylvania\, OH\, 43560\, United States
END:VEVENT
BEGIN:VEVENT
DTSTART;TZID=America/New_York:20260202T180000
DTEND;TZID=America/New_York:20260202T183000
DTSTAMP:20260420T001408
CREATED:20260121T215754Z
LAST-MODIFIED:20260121T215754Z
UID:18388-1770055200-1770057000@www.cityofsylvania.com
SUMMARY:Finance Committee Meeting
DESCRIPTION:CLICK HERE for more information.
URL:https://www.cityofsylvania.com/event/finance-committee-meeting/
LOCATION:Municipal Building\, 6635 Maplewood Avenue\, Sylvania\, OH\, 43560\, United States
END:VEVENT
BEGIN:VEVENT
DTSTART;TZID=America/New_York:20260120T183000
DTEND;TZID=America/New_York:20260120T183000
DTSTAMP:20260420T001408
CREATED:20260115T212903Z
LAST-MODIFIED:20260115T212903Z
UID:18320-1768933800-1768933800@www.cityofsylvania.com
SUMMARY:City Council Meeting
DESCRIPTION:CLICK HERE for more information.
URL:https://www.cityofsylvania.com/event/city-council-meeting-2/
LOCATION:Municipal Building\, 6635 Maplewood Avenue\, Sylvania\, OH\, 43560\, United States
END:VEVENT
BEGIN:VEVENT
DTSTART;TZID=America/New_York:20260120T180000
DTEND;TZID=America/New_York:20260120T183000
DTSTAMP:20260420T001408
CREATED:20260106T203221Z
LAST-MODIFIED:20260106T203221Z
UID:18298-1768932000-1768933800@www.cityofsylvania.com
SUMMARY:Committee of the Whole Council Meeting
DESCRIPTION:CLICK HERE for more information.
URL:https://www.cityofsylvania.com/event/committee-of-the-whole-council-meeting/
LOCATION:Municipal Building\, 6635 Maplewood Avenue\, Sylvania\, OH\, 43560\, United States
END:VEVENT
BEGIN:VEVENT
DTSTART;TZID=America/New_York:20260113T173000
DTEND;TZID=America/New_York:20260113T193000
DTSTAMP:20260420T001408
CREATED:20251218T133906Z
LAST-MODIFIED:20251218T133906Z
UID:18195-1768325400-1768332600@www.cityofsylvania.com
SUMMARY:Public Open House - Downtown Transportation Improvements Project (Phase 2)
DESCRIPTION:CLICK HERE for more information.
URL:https://www.cityofsylvania.com/event/public-open-house-downtown-transportation-improvements-project-phase-2/
LOCATION:Municipal Building\, 6635 Maplewood Avenue\, Sylvania\, OH\, 43560\, United States
END:VEVENT
BEGIN:VEVENT
DTSTART;TZID=America/New_York:20260105T183000
DTEND;TZID=America/New_York:20260105T183000
DTSTAMP:20260420T001408
CREATED:20251211T134744Z
LAST-MODIFIED:20251211T134744Z
UID:18129-1767637800-1767637800@www.cityofsylvania.com
SUMMARY:City Council Meeting
DESCRIPTION:CLICK HERE for more information.
URL:https://www.cityofsylvania.com/event/city-council-meeting/
LOCATION:Municipal Building\, 6635 Maplewood Avenue\, Sylvania\, OH\, 43560\, United States
END:VEVENT
BEGIN:VEVENT
DTSTART;TZID=America/New_York:20260105T181500
DTEND;TZID=America/New_York:20260105T181500
DTSTAMP:20260420T001408
CREATED:20251230T143056Z
LAST-MODIFIED:20260102T150028Z
UID:18230-1767636900-1767636900@www.cityofsylvania.com
SUMMARY:Organizational Meeting of City Council
DESCRIPTION:CLICK HERE for more information.
URL:https://www.cityofsylvania.com/event/organizational-meeting-of-city-council/
LOCATION:Municipal Building\, 6635 Maplewood Avenue\, Sylvania\, OH\, 43560\, United States
END:VEVENT
BEGIN:VEVENT
DTSTART;TZID=America/New_York:20260105T180000
DTEND;TZID=America/New_York:20260105T180000
DTSTAMP:20260420T001408
CREATED:20251215T162040Z
LAST-MODIFIED:20251215T162040Z
UID:18155-1767636000-1767636000@www.cityofsylvania.com
SUMMARY:Public Hearing - 5910 Balfour Road
DESCRIPTION:CLICK HERE for more information.
URL:https://www.cityofsylvania.com/event/public-hearing-5910-balfour-road/
LOCATION:Municipal Building\, 6635 Maplewood Avenue\, Sylvania\, OH\, 43560\, United States
END:VEVENT
END:VCALENDAR