BEGIN:VCALENDAR
VERSION:2.0
PRODID:-//City of Sylvania - ECPv6.15.20//NONSGML v1.0//EN
CALSCALE:GREGORIAN
METHOD:PUBLISH
X-WR-CALNAME:City of Sylvania
X-ORIGINAL-URL:https://www.cityofsylvania.com
X-WR-CALDESC:Events for City of Sylvania
REFRESH-INTERVAL;VALUE=DURATION:PT1H
X-Robots-Tag:noindex
X-PUBLISHED-TTL:PT1H
BEGIN:VTIMEZONE
TZID:America/New_York
BEGIN:DAYLIGHT
TZOFFSETFROM:-0500
TZOFFSETTO:-0400
TZNAME:EDT
DTSTART:20250309T070000
END:DAYLIGHT
BEGIN:STANDARD
TZOFFSETFROM:-0400
TZOFFSETTO:-0500
TZNAME:EST
DTSTART:20251102T060000
END:STANDARD
BEGIN:DAYLIGHT
TZOFFSETFROM:-0500
TZOFFSETTO:-0400
TZNAME:EDT
DTSTART:20260308T070000
END:DAYLIGHT
BEGIN:STANDARD
TZOFFSETFROM:-0400
TZOFFSETTO:-0500
TZNAME:EST
DTSTART:20261101T060000
END:STANDARD
BEGIN:DAYLIGHT
TZOFFSETFROM:-0500
TZOFFSETTO:-0400
TZNAME:EDT
DTSTART:20270314T070000
END:DAYLIGHT
BEGIN:STANDARD
TZOFFSETFROM:-0400
TZOFFSETTO:-0500
TZNAME:EST
DTSTART:20271107T060000
END:STANDARD
END:VTIMEZONE
BEGIN:VEVENT
DTSTART;TZID=America/New_York:20260406T183000
DTEND;TZID=America/New_York:20260406T183000
DTSTAMP:20260422T055830
CREATED:20260218T203644Z
LAST-MODIFIED:20260218T203644Z
UID:18470-1775500200-1775500200@www.cityofsylvania.com
SUMMARY:City Council Meeting
DESCRIPTION:CLICK HERE for more information.
URL:https://www.cityofsylvania.com/event/city-council-meeting-6/
LOCATION:Municipal Building\, 6635 Maplewood Avenue\, Sylvania\, OH\, 43560\, United States
END:VEVENT
BEGIN:VEVENT
DTSTART;TZID=America/New_York:20260406T180000
DTEND;TZID=America/New_York:20260406T183000
DTSTAMP:20260422T055830
CREATED:20260218T190518Z
LAST-MODIFIED:20260218T202154Z
UID:18453-1775498400-1775500200@www.cityofsylvania.com
SUMMARY:Public Hearing on SUP-1-2026 & SUP -2-2026
DESCRIPTION:CLICK HERE for more information.
URL:https://www.cityofsylvania.com/event/public-hearing-on-sup-1-2026-sup-2-2026/
LOCATION:Municipal Building\, 6635 Maplewood Avenue\, Sylvania\, OH\, 43560\, United States
END:VEVENT
END:VCALENDAR